BEGIN:VCALENDAR
VERSION:2.0
PRODID:-//Capital City Tae Kwon Do *Martial Arts* - ECPv6.13.2.1//NONSGML v1.0//EN
CALSCALE:GREGORIAN
METHOD:PUBLISH
X-ORIGINAL-URL:https://capitalcitytkd.com
X-WR-CALDESC:Events for Capital City Tae Kwon Do *Martial Arts*
REFRESH-INTERVAL;VALUE=DURATION:PT1H
X-Robots-Tag:noindex
X-PUBLISHED-TTL:PT1H
BEGIN:VTIMEZONE
TZID:UTC
BEGIN:STANDARD
TZOFFSETFROM:+0000
TZOFFSETTO:+0000
TZNAME:UTC
DTSTART:20260101T000000
END:STANDARD
END:VTIMEZONE
BEGIN:VEVENT
DTSTART;VALUE=DATE:20260427
DTEND;VALUE=DATE:20260502
DTSTAMP:20260423T173520
CREATED:20260103T130102Z
LAST-MODIFIED:20260103T130102Z
UID:2216-1777248000-1777679999@capitalcitytkd.com
SUMMARY:*CLosed*
DESCRIPTION:
URL:https://capitalcitytkd.com/calendar/closed-333/
END:VEVENT
BEGIN:VEVENT
DTSTART;VALUE=DATE:20260508
DTEND;VALUE=DATE:20260509
DTSTAMP:20260423T173520
CREATED:20260103T130129Z
LAST-MODIFIED:20260103T130129Z
UID:2218-1778198400-1778284799@capitalcitytkd.com
SUMMARY:*Closed*
DESCRIPTION:
URL:https://capitalcitytkd.com/calendar/closed-334/
END:VEVENT
BEGIN:VEVENT
DTSTART;VALUE=DATE:20260515
DTEND;VALUE=DATE:20260516
DTSTAMP:20260423T173520
CREATED:20260103T130204Z
LAST-MODIFIED:20260103T130204Z
UID:2220-1778803200-1778889599@capitalcitytkd.com
SUMMARY:*CCTKD May Testing*
DESCRIPTION:
URL:https://capitalcitytkd.com/calendar/cctkd-may-testing/
END:VEVENT
BEGIN:VEVENT
DTSTART;VALUE=DATE:20260522
DTEND;VALUE=DATE:20260523
DTSTAMP:20260423T173520
CREATED:20260103T130230Z
LAST-MODIFIED:20260103T130230Z
UID:2222-1779408000-1779494399@capitalcitytkd.com
SUMMARY:*CLosed*
DESCRIPTION:
URL:https://capitalcitytkd.com/calendar/closed-335/
END:VEVENT
BEGIN:VEVENT
DTSTART;VALUE=DATE:20260525
DTEND;VALUE=DATE:20260526
DTSTAMP:20260423T173520
CREATED:20260103T130305Z
LAST-MODIFIED:20260103T130305Z
UID:2224-1779667200-1779753599@capitalcitytkd.com
SUMMARY:*Closed*
DESCRIPTION:
URL:https://capitalcitytkd.com/calendar/closed-336/
END:VEVENT
BEGIN:VEVENT
DTSTART;VALUE=DATE:20260529
DTEND;VALUE=DATE:20260530
DTSTAMP:20260423T173520
CREATED:20260103T130333Z
LAST-MODIFIED:20260103T130333Z
UID:2226-1780012800-1780099199@capitalcitytkd.com
SUMMARY:*Closed*
DESCRIPTION:
URL:https://capitalcitytkd.com/calendar/closed-337/
END:VEVENT
END:VCALENDAR