BEGIN:VCALENDAR
VERSION:2.0
PRODID:-//Capital City Tae Kwon Do *Martial Arts* - ECPv6.13.2.1//NONSGML v1.0//EN
CALSCALE:GREGORIAN
METHOD:PUBLISH
X-WR-CALNAME:Capital City Tae Kwon Do *Martial Arts*
X-ORIGINAL-URL:https://capitalcitytkd.com
X-WR-CALDESC:Events for Capital City Tae Kwon Do *Martial Arts*
REFRESH-INTERVAL;VALUE=DURATION:PT1H
X-Robots-Tag:noindex
X-PUBLISHED-TTL:PT1H
BEGIN:VTIMEZONE
TZID:UTC
BEGIN:STANDARD
TZOFFSETFROM:+0000
TZOFFSETTO:+0000
TZNAME:UTC
DTSTART:20250101T000000
END:STANDARD
END:VTIMEZONE
BEGIN:VEVENT
DTSTART;VALUE=DATE:20251003
DTEND;VALUE=DATE:20251004
DTSTAMP:20260424T030223
CREATED:20250102T144032Z
LAST-MODIFIED:20250102T144032Z
UID:2139-1759449600-1759535999@capitalcitytkd.com
SUMMARY:*Closed*
DESCRIPTION:
URL:https://capitalcitytkd.com/calendar/closed-306/
END:VEVENT
BEGIN:VEVENT
DTSTART;VALUE=DATE:20251010
DTEND;VALUE=DATE:20251011
DTSTAMP:20260424T030223
CREATED:20250102T144106Z
LAST-MODIFIED:20250102T144106Z
UID:2141-1760054400-1760140799@capitalcitytkd.com
SUMMARY:*Closed*
DESCRIPTION:
URL:https://capitalcitytkd.com/calendar/closed-307/
END:VEVENT
BEGIN:VEVENT
DTSTART;VALUE=DATE:20251013
DTEND;VALUE=DATE:20251014
DTSTAMP:20260424T030223
CREATED:20250102T144148Z
LAST-MODIFIED:20250102T144148Z
UID:2143-1760313600-1760399999@capitalcitytkd.com
SUMMARY:*Closed*
DESCRIPTION:
URL:https://capitalcitytkd.com/calendar/closed-308/
END:VEVENT
BEGIN:VEVENT
DTSTART;VALUE=DATE:20251017
DTEND;VALUE=DATE:20251018
DTSTAMP:20260424T030223
CREATED:20250102T144218Z
LAST-MODIFIED:20250102T144218Z
UID:2145-1760659200-1760745599@capitalcitytkd.com
SUMMARY:*Testing*
DESCRIPTION:
URL:https://capitalcitytkd.com/calendar/testing-55/
END:VEVENT
BEGIN:VEVENT
DTSTART;TZID=UTC:20251024T080000
DTEND;TZID=UTC:20251024T170000
DTSTAMP:20260424T030223
CREATED:20250102T144246Z
LAST-MODIFIED:20250102T144246Z
UID:2147-1761292800-1761325200@capitalcitytkd.com
SUMMARY:*Closed*
DESCRIPTION:
URL:https://capitalcitytkd.com/calendar/closed-309/
END:VEVENT
END:VCALENDAR