BEGIN:VCALENDAR
VERSION:2.0
PRODID:-//Capital City Tae Kwon Do *Martial Arts* - ECPv6.13.2.1//NONSGML v1.0//EN
CALSCALE:GREGORIAN
METHOD:PUBLISH
X-WR-CALNAME:Capital City Tae Kwon Do *Martial Arts*
X-ORIGINAL-URL:https://capitalcitytkd.com
X-WR-CALDESC:Events for Capital City Tae Kwon Do *Martial Arts*
REFRESH-INTERVAL;VALUE=DURATION:PT1H
X-Robots-Tag:noindex
X-PUBLISHED-TTL:PT1H
BEGIN:VTIMEZONE
TZID:UTC
BEGIN:STANDARD
TZOFFSETFROM:+0000
TZOFFSETTO:+0000
TZNAME:UTC
DTSTART:20250101T000000
END:STANDARD
END:VTIMEZONE
BEGIN:VEVENT
DTSTART;VALUE=DATE:20250901
DTEND;VALUE=DATE:20250902
DTSTAMP:20260424T052254
CREATED:20250101T172039Z
LAST-MODIFIED:20250101T172039Z
UID:2131-1756684800-1756771199@capitalcitytkd.com
SUMMARY:*Closed*
DESCRIPTION:
URL:https://capitalcitytkd.com/calendar/closed-303/
END:VEVENT
BEGIN:VEVENT
DTSTART;VALUE=DATE:20250905
DTEND;VALUE=DATE:20250906
DTSTAMP:20260424T052254
CREATED:20250101T172138Z
LAST-MODIFIED:20250101T172138Z
UID:2133-1757030400-1757116799@capitalcitytkd.com
SUMMARY:*Closed*
DESCRIPTION:
URL:https://capitalcitytkd.com/calendar/closed-304/
END:VEVENT
BEGIN:VEVENT
DTSTART;VALUE=DATE:20250912
DTEND;VALUE=DATE:20250913
DTSTAMP:20260424T052254
CREATED:20250101T172222Z
LAST-MODIFIED:20250101T172304Z
UID:2135-1757635200-1757721599@capitalcitytkd.com
SUMMARY:*Closed*
DESCRIPTION:
URL:https://capitalcitytkd.com/calendar/closed-305/
END:VEVENT
BEGIN:VEVENT
DTSTART;TZID=UTC:20250919T080000
DTEND;TZID=UTC:20250919T170000
DTSTAMP:20260424T052254
CREATED:20250101T172328Z
LAST-MODIFIED:20250101T172328Z
UID:2137-1758268800-1758301200@capitalcitytkd.com
SUMMARY:*Testing*
DESCRIPTION:
URL:https://capitalcitytkd.com/calendar/testing-54/
END:VEVENT
END:VCALENDAR