BEGIN:VCALENDAR
VERSION:2.0
PRODID:-//Capital City Tae Kwon Do *Martial Arts* - ECPv6.13.2.1//NONSGML v1.0//EN
CALSCALE:GREGORIAN
METHOD:PUBLISH
X-WR-CALNAME:Capital City Tae Kwon Do *Martial Arts*
X-ORIGINAL-URL:https://capitalcitytkd.com
X-WR-CALDESC:Events for Capital City Tae Kwon Do *Martial Arts*
REFRESH-INTERVAL;VALUE=DURATION:PT1H
X-Robots-Tag:noindex
X-PUBLISHED-TTL:PT1H
BEGIN:VTIMEZONE
TZID:UTC
BEGIN:STANDARD
TZOFFSETFROM:+0000
TZOFFSETTO:+0000
TZNAME:UTC
DTSTART:20250101T000000
END:STANDARD
END:VTIMEZONE
BEGIN:VEVENT
DTSTART;VALUE=DATE:20250101
DTEND;VALUE=DATE:20250102
DTSTAMP:20260424T220426
CREATED:20241219T012155Z
LAST-MODIFIED:20241219T012155Z
UID:2032-1735689600-1735775999@capitalcitytkd.com
SUMMARY:*Closed*
DESCRIPTION:
URL:https://capitalcitytkd.com/calendar/closed-269/
END:VEVENT
BEGIN:VEVENT
DTSTART;VALUE=DATE:20250101
DTEND;VALUE=DATE:20250102
DTSTAMP:20260424T220426
CREATED:20250101T141015Z
LAST-MODIFIED:20250101T141015Z
UID:2063-1735689600-1735775999@capitalcitytkd.com
SUMMARY:*Closed*
DESCRIPTION:
URL:https://capitalcitytkd.com/calendar/closed-275/
END:VEVENT
BEGIN:VEVENT
DTSTART;VALUE=DATE:20250101
DTEND;VALUE=DATE:20250102
DTSTAMP:20260424T220426
CREATED:20250101T141530Z
LAST-MODIFIED:20250101T141530Z
UID:2075-1735689600-1735775999@capitalcitytkd.com
SUMMARY:*Closed*
DESCRIPTION:
URL:https://capitalcitytkd.com/calendar/closed-280/
END:VEVENT
BEGIN:VEVENT
DTSTART;VALUE=DATE:20250103
DTEND;VALUE=DATE:20250104
DTSTAMP:20260424T220426
CREATED:20250101T140156Z
LAST-MODIFIED:20250101T140156Z
UID:2047-1735862400-1735948799@capitalcitytkd.com
SUMMARY:*Closed*
DESCRIPTION:
URL:https://capitalcitytkd.com/calendar/closed-270/
END:VEVENT
BEGIN:VEVENT
DTSTART;VALUE=DATE:20250110
DTEND;VALUE=DATE:20250111
DTSTAMP:20260424T220426
CREATED:20250101T140317Z
LAST-MODIFIED:20250101T140317Z
UID:2049-1736467200-1736553599@capitalcitytkd.com
SUMMARY:*Closed*
DESCRIPTION:
URL:https://capitalcitytkd.com/calendar/closed-271/
END:VEVENT
BEGIN:VEVENT
DTSTART;VALUE=DATE:20250117
DTEND;VALUE=DATE:20250118
DTSTAMP:20260424T220426
CREATED:20250101T140637Z
LAST-MODIFIED:20250101T140637Z
UID:2053-1737072000-1737158399@capitalcitytkd.com
SUMMARY:*Testing*
DESCRIPTION:
URL:https://capitalcitytkd.com/calendar/testing-46/
END:VEVENT
BEGIN:VEVENT
DTSTART;VALUE=DATE:20250120
DTEND;VALUE=DATE:20250121
DTSTAMP:20260424T220426
CREATED:20250101T140732Z
LAST-MODIFIED:20250101T140732Z
UID:2055-1737331200-1737417599@capitalcitytkd.com
SUMMARY:*Closed*
DESCRIPTION:
URL:https://capitalcitytkd.com/calendar/closed-272/
END:VEVENT
BEGIN:VEVENT
DTSTART;VALUE=DATE:20250124
DTEND;VALUE=DATE:20250125
DTSTAMP:20260424T220426
CREATED:20250101T140827Z
LAST-MODIFIED:20250101T140827Z
UID:2057-1737676800-1737763199@capitalcitytkd.com
SUMMARY:*Closed*
DESCRIPTION:
URL:https://capitalcitytkd.com/calendar/closed-273/
END:VEVENT
BEGIN:VEVENT
DTSTART;VALUE=DATE:20250128
DTEND;VALUE=DATE:20250129
DTSTAMP:20260424T220426
CREATED:20250101T141300Z
LAST-MODIFIED:20250101T141300Z
UID:2069-1738022400-1738108799@capitalcitytkd.com
SUMMARY:*Closed*
DESCRIPTION:
URL:https://capitalcitytkd.com/calendar/closed-278/
END:VEVENT
BEGIN:VEVENT
DTSTART;VALUE=DATE:20250131
DTEND;VALUE=DATE:20250201
DTSTAMP:20260424T220426
CREATED:20250101T140919Z
LAST-MODIFIED:20250101T140919Z
UID:2059-1738281600-1738367999@capitalcitytkd.com
SUMMARY:*Closed*
DESCRIPTION:
URL:https://capitalcitytkd.com/calendar/closed-274/
END:VEVENT
END:VCALENDAR