BEGIN:VCALENDAR
VERSION:2.0
PRODID:-//Capital City Tae Kwon Do *Martial Arts* - ECPv6.13.2.1//NONSGML v1.0//EN
CALSCALE:GREGORIAN
METHOD:PUBLISH
X-WR-CALNAME:Capital City Tae Kwon Do *Martial Arts*
X-ORIGINAL-URL:https://capitalcitytkd.com
X-WR-CALDESC:Events for Capital City Tae Kwon Do *Martial Arts*
REFRESH-INTERVAL;VALUE=DURATION:PT1H
X-Robots-Tag:noindex
X-PUBLISHED-TTL:PT1H
BEGIN:VTIMEZONE
TZID:UTC
BEGIN:STANDARD
TZOFFSETFROM:+0000
TZOFFSETTO:+0000
TZNAME:UTC
DTSTART:20240101T000000
END:STANDARD
END:VTIMEZONE
BEGIN:VEVENT
DTSTART;TZID=UTC:20241206T080000
DTEND;TZID=UTC:20241206T170000
DTSTAMP:20260424T235441
CREATED:20231231T170047Z
LAST-MODIFIED:20231231T170047Z
UID:1980-1733472000-1733504400@capitalcitytkd.com
SUMMARY:*Closed*
DESCRIPTION:
URL:https://capitalcitytkd.com/calendar/closed-263/
END:VEVENT
BEGIN:VEVENT
DTSTART;TZID=UTC:20241213T080000
DTEND;TZID=UTC:20241213T170000
DTSTAMP:20260424T235441
CREATED:20231231T170656Z
LAST-MODIFIED:20241118T161843Z
UID:2010-1734076800-1734109200@capitalcitytkd.com
SUMMARY:*December Testing*
DESCRIPTION:
URL:https://capitalcitytkd.com/calendar/december-testingi/
END:VEVENT
BEGIN:VEVENT
DTSTART;TZID=UTC:20241220T080000
DTEND;TZID=UTC:20241220T170000
DTSTAMP:20260424T235441
CREATED:20241118T162015Z
LAST-MODIFIED:20241118T162015Z
UID:2020-1734681600-1734714000@capitalcitytkd.com
SUMMARY:*Closed*
DESCRIPTION:
URL:https://capitalcitytkd.com/calendar/closed-247/
END:VEVENT
BEGIN:VEVENT
DTSTART;VALUE=DATE:20241224
DTEND;VALUE=DATE:20241225
DTSTAMP:20260424T235441
CREATED:20241219T012013Z
LAST-MODIFIED:20241219T012013Z
UID:2024-1734998400-1735084799@capitalcitytkd.com
SUMMARY:*Closed*
DESCRIPTION:
URL:https://capitalcitytkd.com/calendar/closed-256/
END:VEVENT
BEGIN:VEVENT
DTSTART;VALUE=DATE:20241225
DTEND;VALUE=DATE:20241226
DTSTAMP:20260424T235441
CREATED:20241219T012042Z
LAST-MODIFIED:20241219T012042Z
UID:2026-1735084800-1735171199@capitalcitytkd.com
SUMMARY:*Closed*
DESCRIPTION:
URL:https://capitalcitytkd.com/calendar/closed-264/
END:VEVENT
BEGIN:VEVENT
DTSTART;VALUE=DATE:20241226
DTEND;VALUE=DATE:20241227
DTSTAMP:20260424T235441
CREATED:20241219T012104Z
LAST-MODIFIED:20241224T144944Z
UID:2028-1735171200-1735257599@capitalcitytkd.com
SUMMARY:*Closed*
DESCRIPTION:
URL:https://capitalcitytkd.com/calendar/closed-265/
END:VEVENT
BEGIN:VEVENT
DTSTART;VALUE=DATE:20241227
DTEND;VALUE=DATE:20241228
DTSTAMP:20260424T235441
CREATED:20241219T012124Z
LAST-MODIFIED:20241224T144734Z
UID:2030-1735257600-1735343999@capitalcitytkd.com
SUMMARY:*Closed*
DESCRIPTION:
URL:https://capitalcitytkd.com/calendar/closed-268/
END:VEVENT
BEGIN:VEVENT
DTSTART;VALUE=DATE:20241230
DTEND;VALUE=DATE:20250101
DTSTAMP:20260424T235441
CREATED:20231231T170216Z
LAST-MODIFIED:20241224T144650Z
UID:1986-1735516800-1735689599@capitalcitytkd.com
SUMMARY:*Closed*
DESCRIPTION:
URL:https://capitalcitytkd.com/calendar/closed-266/
END:VEVENT
END:VCALENDAR