BEGIN:VCALENDAR
VERSION:2.0
PRODID:-//Capital City Tae Kwon Do *Martial Arts* - ECPv6.13.2.1//NONSGML v1.0//EN
CALSCALE:GREGORIAN
METHOD:PUBLISH
X-WR-CALNAME:Capital City Tae Kwon Do *Martial Arts*
X-ORIGINAL-URL:https://capitalcitytkd.com
X-WR-CALDESC:Events for Capital City Tae Kwon Do *Martial Arts*
REFRESH-INTERVAL;VALUE=DURATION:PT1H
X-Robots-Tag:noindex
X-PUBLISHED-TTL:PT1H
BEGIN:VTIMEZONE
TZID:UTC
BEGIN:STANDARD
TZOFFSETFROM:+0000
TZOFFSETTO:+0000
TZNAME:UTC
DTSTART:20240101T000000
END:STANDARD
END:VTIMEZONE
BEGIN:VEVENT
DTSTART;TZID=UTC:20240301T080000
DTEND;TZID=UTC:20240301T170000
DTSTAMP:20260425T164525
CREATED:20231231T162133Z
LAST-MODIFIED:20231231T162133Z
UID:1904-1709280000-1709312400@capitalcitytkd.com
SUMMARY:*Cllosed*
DESCRIPTION:
URL:https://capitalcitytkd.com/calendar/cllosed/
END:VEVENT
BEGIN:VEVENT
DTSTART;TZID=UTC:20240308T080000
DTEND;TZID=UTC:20240308T170000
DTSTAMP:20260425T164525
CREATED:20231231T162151Z
LAST-MODIFIED:20231231T162151Z
UID:1906-1709884800-1709917200@capitalcitytkd.com
SUMMARY:*Closed*
DESCRIPTION:
URL:https://capitalcitytkd.com/calendar/closed-227/
END:VEVENT
BEGIN:VEVENT
DTSTART;TZID=UTC:20240315T080000
DTEND;TZID=UTC:20240315T170000
DTSTAMP:20260425T164525
CREATED:20231231T170327Z
LAST-MODIFIED:20231231T170327Z
UID:1992-1710489600-1710522000@capitalcitytkd.com
SUMMARY:*March Testing*
DESCRIPTION:
URL:https://capitalcitytkd.com/calendar/march-testing/
END:VEVENT
BEGIN:VEVENT
DTSTART;VALUE=DATE:20240322
DTEND;VALUE=DATE:20240323
DTSTAMP:20260425T164525
CREATED:20231231T162212Z
LAST-MODIFIED:20231231T162212Z
UID:1908-1711065600-1711151999@capitalcitytkd.com
SUMMARY:*Closed*
DESCRIPTION:
URL:https://capitalcitytkd.com/calendar/closed-228/
END:VEVENT
BEGIN:VEVENT
DTSTART;TZID=UTC:20240329T080000
DTEND;TZID=UTC:20240329T170000
DTSTAMP:20260425T164525
CREATED:20231231T162236Z
LAST-MODIFIED:20231231T162236Z
UID:1910-1711699200-1711731600@capitalcitytkd.com
SUMMARY:*Closed*
DESCRIPTION:
URL:https://capitalcitytkd.com/calendar/closed-229/
END:VEVENT
END:VCALENDAR