BEGIN:VCALENDAR
VERSION:2.0
PRODID:-//Capital City Tae Kwon Do *Martial Arts* - ECPv6.13.2.1//NONSGML v1.0//EN
CALSCALE:GREGORIAN
METHOD:PUBLISH
X-ORIGINAL-URL:https://capitalcitytkd.com
X-WR-CALDESC:Events for Capital City Tae Kwon Do *Martial Arts*
REFRESH-INTERVAL;VALUE=DURATION:PT1H
X-Robots-Tag:noindex
X-PUBLISHED-TTL:PT1H
BEGIN:VTIMEZONE
TZID:UTC
BEGIN:STANDARD
TZOFFSETFROM:+0000
TZOFFSETTO:+0000
TZNAME:UTC
DTSTART:20240101T000000
END:STANDARD
END:VTIMEZONE
BEGIN:VEVENT
DTSTART;VALUE=DATE:20240405
DTEND;VALUE=DATE:20240406
DTSTAMP:20260425T164650
CREATED:20231231T162319Z
LAST-MODIFIED:20231231T162319Z
UID:1912-1712275200-1712361599@capitalcitytkd.com
SUMMARY:*Closed*
DESCRIPTION:
URL:https://capitalcitytkd.com/calendar/closed-230/
END:VEVENT
END:VCALENDAR